{
 "currentVersion": 10.91,
 "cimVersion": "2.9.0",
 "serviceDescription": "Streams",
 "mapName": "Layers",
 "description": "Streams",
 "copyrightText": "",
 "supportsDynamicLayers": false,
 "layers": [
  {
   "id": 0,
   "name": "Streams",
   "parentLayerId": -1,
   "defaultVisibility": true,
   "subLayerIds": [
    1,
    2,
    3,
    4,
    5
   ],
   "minScale": 0,
   "maxScale": 0,
   "type": "Group Layer",
   "supportsDynamicLegends": false
  },
  {
   "id": 1,
   "name": "Z0Z1 - 288,895 and 108,336",
   "parentLayerId": 0,
   "defaultVisibility": true,
   "subLayerIds": null,
   "minScale": 0,
   "maxScale": 108336,
   "type": "Feature Layer",
   "geometryType": "esriGeometryPolygon",
   "supportsDynamicLegends": true
  },
  {
   "id": 2,
   "name": "Z2Z3 - 72,224 and 36,112",
   "parentLayerId": 0,
   "defaultVisibility": true,
   "subLayerIds": null,
   "minScale": 108335,
   "maxScale": 27084,
   "type": "Feature Layer",
   "geometryType": "esriGeometryPolygon",
   "supportsDynamicLegends": true
  },
  {
   "id": 3,
   "name": "Z4Z5 - 18,056 and 9,028",
   "parentLayerId": 0,
   "defaultVisibility": true,
   "subLayerIds": null,
   "minScale": 27083,
   "maxScale": 6771,
   "type": "Feature Layer",
   "geometryType": "esriGeometryPolygon",
   "supportsDynamicLegends": true
  },
  {
   "id": 4,
   "name": "Z6Z7 - 4,514 and 2,257",
   "parentLayerId": 0,
   "defaultVisibility": true,
   "subLayerIds": null,
   "minScale": 6770,
   "maxScale": 1692,
   "type": "Feature Layer",
   "geometryType": "esriGeometryPolygon",
   "supportsDynamicLegends": true
  },
  {
   "id": 5,
   "name": "Z8Z9 - 1,128 and 564",
   "parentLayerId": 0,
   "defaultVisibility": true,
   "subLayerIds": null,
   "minScale": 1691,
   "maxScale": 1,
   "type": "Feature Layer",
   "geometryType": "esriGeometryPolygon",
   "supportsDynamicLegends": true
  }
 ],
 "tables": [],
 "spatialReference": {
  "wkid": 102678,
  "latestWkid": 3420,
  "xyTolerance": 0.0032808333333333335,
  "zTolerance": 2,
  "mTolerance": 0.001,
  "falseX": -121025700,
  "falseY": -93674900,
  "xyUnits": 3.681274654427216E7,
  "falseZ": 0,
  "zUnits": 1,
  "falseM": -100000,
  "mUnits": 10000
 },
 "singleFusedMapCache": true,
 "tileInfo": {
  "rows": 256,
  "cols": 256,
  "dpi": 96,
  "format": "PNG8",
  "compressionQuality": 0,
  "origin": {
   "x": -2.0037508342787E7,
   "y": 2.0037508342787E7
  },
  "spatialReference": {
   "wkid": 102678,
   "latestWkid": 3420,
   "xyTolerance": 0.0032808333333333335,
   "zTolerance": 2,
   "mTolerance": 0.001,
   "falseX": -121025700,
   "falseY": -93674900,
   "xyUnits": 3.681274654427216E7,
   "falseZ": 0,
   "zUnits": 1,
   "falseM": -100000,
   "mUnits": 10000
  },
  "lods": [
   {
    "level": 0,
    "resolution": 250.77715029861113,
    "scale": 288895.277144
   },
   {
    "level": 1,
    "resolution": 125.38857514930557,
    "scale": 144447.638572
   },
   {
    "level": 2,
    "resolution": 62.69428757465278,
    "scale": 72223.819286
   },
   {
    "level": 3,
    "resolution": 31.34714378732639,
    "scale": 36111.909643
   },
   {
    "level": 4,
    "resolution": 15.673571894097224,
    "scale": 18055.954822
   },
   {
    "level": 5,
    "resolution": 7.836785947048612,
    "scale": 9027.977411
   },
   {
    "level": 6,
    "resolution": 3.918392973090278,
    "scale": 4513.988705
   },
   {
    "level": 7,
    "resolution": 1.959196486979167,
    "scale": 2256.994353
   },
   {
    "level": 8,
    "resolution": 0.9795982430555557,
    "scale": 1128.497176
   },
   {
    "level": 9,
    "resolution": 0.48958333333333337,
    "scale": 564
   }
  ]
 },
 "storageInfo": {
  "storageFormat": "esriMapCacheStorageModeCompact",
  "packetSize": 128
 },
 "initialExtent": {
  "xmin": 1571889.0772666663,
  "ymin": 1686069.1827832216,
  "xmax": 1657171.5628623,
  "ymax": 1729238.4905073273,
  "spatialReference": {
   "wkid": 102678,
   "latestWkid": 3420,
   "xyTolerance": 0.0032808333333333335,
   "zTolerance": 2,
   "mTolerance": 0.001,
   "falseX": -121025700,
   "falseY": -93674900,
   "xyUnits": 3.681274654427216E7,
   "falseZ": 0,
   "zUnits": 1,
   "falseM": -100000,
   "mUnits": 10000
  }
 },
 "fullExtent": {
  "xmin": 1512886.922664106,
  "ymin": 1608522.7647943497,
  "xmax": 1702226.4888661057,
  "ymax": 1768622.2982691824,
  "spatialReference": {
   "wkid": 102678,
   "latestWkid": 3420,
   "xyTolerance": 0.0032808333333333335,
   "zTolerance": 2,
   "mTolerance": 0.001,
   "falseX": -121025700,
   "falseY": -93674900,
   "xyUnits": 3.681274654427216E7,
   "falseZ": 0,
   "zUnits": 1,
   "falseM": -100000,
   "mUnits": 10000
  }
 },
 "datesInUnknownTimezone": false,
 "minScale": 288895.277144,
 "maxScale": 564,
 "units": "esriFeet",
 "supportedImageFormatTypes": "PNG32,PNG24,PNG,JPG,DIB,TIFF,EMF,PS,PDF,GIF,SVG,SVGZ,BMP",
 "documentInfo": {
  "Title": "Service_Publishing.aprx",
  "Author": "",
  "Comments": "Streams",
  "Subject": "Streams",
  "Category": "",
  "AntialiasingMode": "None",
  "TextAntialiasingMode": "Force",
  "Version": "2.9.0",
  "Keywords": "Streams"
 },
 "supportsQueryDomains": true,
 "capabilities": "Map,Query,Data",
 "supportedQueryFormats": "JSON, geoJSON, PBF",
 "exportTilesAllowed": false,
 "referenceScale": 0.0,
 "datumTransformations": [
  {
   "geoTransforms": [
    {
     "wkid": 108001,
     "latestWkid": 1241,
     "transformForward": true,
     "name": "NAD_1927_To_NAD_1983_NADCON"
    }
   ]
  },
  {
   "geoTransforms": [
    {
     "wkid": 108001,
     "latestWkid": 1241,
     "transformForward": false,
     "name": "NAD_1927_To_NAD_1983_NADCON"
    }
   ]
  }
 ],
 "supportsDatumTransformation": true,
 "archivingInfo": {
  "supportsHistoricMoment": false
 },
 "supportsClipping": true,
 "supportsSpatialFilter": true,
 "supportsTimeRelation": true,
 "supportsQueryDataElements": true,
 "maxRecordCount": 1000,
 "maxImageHeight": 4096,
 "maxImageWidth": 4096,
 "supportedExtensions": "",
 "serviceItemId": "75527fe790b94d23ba315147218db841"
}
