{
 "currentVersion": 10.91,
 "cimVersion": "2.9.0",
 "serviceDescription": "FEMA Flood 2016",
 "mapName": "Layers",
 "description": "FEMA Flood 2016",
 "copyrightText": "https://msc.fema.gov/",
 "supportsDynamicLayers": false,
 "layers": [
  {
   "id": 0,
   "name": "Base Flood Approximate",
   "parentLayerId": -1,
   "defaultVisibility": true,
   "subLayerIds": null,
   "minScale": 6770,
   "maxScale": 0,
   "type": "Feature Layer",
   "geometryType": "esriGeometryPolyline",
   "supportsDynamicLegends": true
  },
  {
   "id": 1,
   "name": "Base Flood Elevations",
   "parentLayerId": -1,
   "defaultVisibility": true,
   "subLayerIds": null,
   "minScale": 6770,
   "maxScale": 0,
   "type": "Feature Layer",
   "geometryType": "esriGeometryPolyline",
   "supportsDynamicLegends": true
  },
  {
   "id": 2,
   "name": "Lettered Cross Sections",
   "parentLayerId": -1,
   "defaultVisibility": true,
   "subLayerIds": null,
   "minScale": 6770,
   "maxScale": 0,
   "type": "Feature Layer",
   "geometryType": "esriGeometryPolyline",
   "supportsDynamicLegends": true
  },
  {
   "id": 3,
   "name": "(X) 0.2 Pct Annual Chance",
   "parentLayerId": -1,
   "defaultVisibility": true,
   "subLayerIds": null,
   "minScale": 0,
   "maxScale": 0,
   "type": "Feature Layer",
   "geometryType": "esriGeometryPolygon",
   "supportsDynamicLegends": true
  },
  {
   "id": 4,
   "name": "A",
   "parentLayerId": -1,
   "defaultVisibility": true,
   "subLayerIds": null,
   "minScale": 0,
   "maxScale": 0,
   "type": "Feature Layer",
   "geometryType": "esriGeometryPolygon",
   "supportsDynamicLegends": true
  },
  {
   "id": 5,
   "name": "AE",
   "parentLayerId": -1,
   "defaultVisibility": true,
   "subLayerIds": null,
   "minScale": 0,
   "maxScale": 0,
   "type": "Feature Layer",
   "geometryType": "esriGeometryPolygon",
   "supportsDynamicLegends": true
  },
  {
   "id": 6,
   "name": "AE, FLOODWAY",
   "parentLayerId": -1,
   "defaultVisibility": true,
   "subLayerIds": null,
   "minScale": 0,
   "maxScale": 0,
   "type": "Feature Layer",
   "geometryType": "esriGeometryPolygon",
   "supportsDynamicLegends": true
  },
  {
   "id": 7,
   "name": "AH",
   "parentLayerId": -1,
   "defaultVisibility": true,
   "subLayerIds": null,
   "minScale": 0,
   "maxScale": 0,
   "type": "Feature Layer",
   "geometryType": "esriGeometryPolygon",
   "supportsDynamicLegends": true
  },
  {
   "id": 8,
   "name": "AO",
   "parentLayerId": -1,
   "defaultVisibility": true,
   "subLayerIds": null,
   "minScale": 0,
   "maxScale": 0,
   "type": "Feature Layer",
   "geometryType": "esriGeometryPolygon",
   "supportsDynamicLegends": true
  },
  {
   "id": 9,
   "name": "X - Area of Special Consideration",
   "parentLayerId": -1,
   "defaultVisibility": true,
   "subLayerIds": null,
   "minScale": 0,
   "maxScale": 0,
   "type": "Feature Layer",
   "geometryType": "esriGeometryPolygon",
   "supportsDynamicLegends": true
  },
  {
   "id": 10,
   "name": "X",
   "parentLayerId": -1,
   "defaultVisibility": true,
   "subLayerIds": null,
   "minScale": 0,
   "maxScale": 0,
   "type": "Feature Layer",
   "geometryType": "esriGeometryPolygon",
   "supportsDynamicLegends": true
  },
  {
   "id": 11,
   "name": "Area Not Included",
   "parentLayerId": -1,
   "defaultVisibility": true,
   "subLayerIds": null,
   "minScale": 0,
   "maxScale": 0,
   "type": "Feature Layer",
   "geometryType": "esriGeometryPolygon",
   "supportsDynamicLegends": true
  }
 ],
 "tables": [],
 "spatialReference": {
  "wkid": 102678,
  "latestWkid": 3420,
  "xyTolerance": 0.0032808333333333335,
  "zTolerance": 2,
  "mTolerance": 0.001,
  "falseX": -121025700,
  "falseY": -93674900,
  "xyUnits": 3.681274654427216E7,
  "falseZ": 0,
  "zUnits": 1,
  "falseM": -100000,
  "mUnits": 10000
 },
 "singleFusedMapCache": true,
 "tileInfo": {
  "rows": 256,
  "cols": 256,
  "dpi": 96,
  "format": "PNG32",
  "compressionQuality": 0,
  "origin": {
   "x": -121025700,
   "y": 151001200
  },
  "spatialReference": {
   "wkid": 102678,
   "latestWkid": 3420,
   "xyTolerance": 0.003280833333333333,
   "zTolerance": 2,
   "mTolerance": 0.001,
   "falseX": -121025700,
   "falseY": -93674900,
   "xyUnits": 3.681274654427216E7,
   "falseZ": 0,
   "zUnits": 1,
   "falseM": -100000,
   "mUnits": 10000
  },
  "lods": [
   {
    "level": 0,
    "resolution": 250.7771502986111,
    "scale": 288895.277144
   },
   {
    "level": 1,
    "resolution": 125.38857514930555,
    "scale": 144447.638572
   },
   {
    "level": 2,
    "resolution": 62.694287574652776,
    "scale": 72223.819286
   },
   {
    "level": 3,
    "resolution": 31.347143787326388,
    "scale": 36111.909643
   },
   {
    "level": 4,
    "resolution": 15.673571894097222,
    "scale": 18055.954822
   },
   {
    "level": 5,
    "resolution": 7.836785947048611,
    "scale": 9027.977411
   },
   {
    "level": 6,
    "resolution": 3.9183929730902776,
    "scale": 4513.988705
   },
   {
    "level": 7,
    "resolution": 1.9591964869791667,
    "scale": 2256.994353
   },
   {
    "level": 8,
    "resolution": 0.9795982430555555,
    "scale": 1128.497176
   },
   {
    "level": 9,
    "resolution": 0.4895833333333333,
    "scale": 564
   }
  ]
 },
 "storageInfo": {
  "storageFormat": "esriMapCacheStorageModeCompactV2",
  "packetSize": 128
 },
 "initialExtent": {
  "xmin": 1388871.317960281,
  "ymin": 1560095.6576846796,
  "xmax": 1821857.2792013334,
  "ymax": 1823468.5083189555,
  "spatialReference": {
   "wkid": 102678,
   "latestWkid": 3420,
   "xyTolerance": 0.0032808333333333335,
   "zTolerance": 2,
   "mTolerance": 0.001,
   "falseX": -121025700,
   "falseY": -93674900,
   "xyUnits": 3.681274654427216E7,
   "falseZ": 0,
   "zUnits": 1,
   "falseM": -100000,
   "mUnits": 10000
  }
 },
 "fullExtent": {
  "xmin": 1512498.9500147998,
  "ymin": 1594127.7000805587,
  "xmax": 1703118.0251407176,
  "ymax": 1768864.2249506414,
  "spatialReference": {
   "wkid": 102678,
   "latestWkid": 3420,
   "xyTolerance": 0.0032808333333333335,
   "zTolerance": 2,
   "mTolerance": 0.001,
   "falseX": -121025700,
   "falseY": -93674900,
   "xyUnits": 3.681274654427216E7,
   "falseZ": 0,
   "zUnits": 1,
   "falseM": -100000,
   "mUnits": 10000
  }
 },
 "datesInUnknownTimezone": false,
 "minScale": 288895.277144,
 "maxScale": 564,
 "units": "esriFeet",
 "supportedImageFormatTypes": "PNG32,PNG24,PNG,JPG,DIB,TIFF,EMF,PS,PDF,GIF,SVG,SVGZ,BMP",
 "documentInfo": {
  "Title": "Service_Publishing.aprx",
  "Author": "",
  "Comments": "FEMA Flood 2016",
  "Subject": "FEMA Flood 2016",
  "Category": "",
  "AntialiasingMode": "None",
  "TextAntialiasingMode": "Force",
  "Version": "2.9.0",
  "Keywords": "FEMA,Flood,BFE,BFA"
 },
 "supportsQueryDomains": true,
 "capabilities": "Map,Query,Data",
 "supportedQueryFormats": "JSON, geoJSON, PBF",
 "exportTilesAllowed": false,
 "referenceScale": 0.0,
 "datumTransformations": [
  {
   "geoTransforms": [
    {
     "wkid": 108001,
     "latestWkid": 1241,
     "transformForward": true,
     "name": "NAD_1927_To_NAD_1983_NADCON"
    }
   ]
  },
  {
   "geoTransforms": [
    {
     "wkid": 108001,
     "latestWkid": 1241,
     "transformForward": false,
     "name": "NAD_1927_To_NAD_1983_NADCON"
    }
   ]
  }
 ],
 "supportsDatumTransformation": true,
 "archivingInfo": {
  "supportsHistoricMoment": false
 },
 "supportsClipping": true,
 "supportsSpatialFilter": true,
 "supportsTimeRelation": true,
 "supportsQueryDataElements": true,
 "maxRecordCount": 1000,
 "maxImageHeight": 4096,
 "maxImageWidth": 4096,
 "supportedExtensions": "",
 "serviceItemId": "f5498750f6ca4f7ba8e70fad19e1fe97"
}
