{
 "currentVersion": 10.91,
 "cimVersion": "2.9.0",
 "serviceDescription": "Annotation for Sedgwick County Easements",
 "mapName": "Layers",
 "description": "Annotation for Sedgwick County Easements",
 "copyrightText": "",
 "supportsDynamicLayers": false,
 "layers": [
  {
   "id": 0,
   "name": "EasementAnno",
   "parentLayerId": -1,
   "defaultVisibility": true,
   "subLayerIds": [
    1,
    2,
    3,
    4,
    5,
    6,
    7,
    8,
    9,
    10,
    11,
    12
   ],
   "minScale": 3384,
   "maxScale": 1,
   "type": "Annotation Layer",
   "geometryType": "esriGeometryPolygon",
   "supportsDynamicLegends": false
  },
  {
   "id": 1,
   "name": "Block Num 100",
   "parentLayerId": 0,
   "defaultVisibility": false,
   "subLayerIds": null,
   "minScale": 20000,
   "maxScale": 0,
   "supportsDynamicLegends": false
  },
  {
   "id": 2,
   "name": "Cul-de-sac Dim 100",
   "parentLayerId": 0,
   "defaultVisibility": false,
   "subLayerIds": null,
   "minScale": 20000,
   "maxScale": 0,
   "supportsDynamicLegends": false
  },
  {
   "id": 3,
   "name": "Easement 100",
   "parentLayerId": 0,
   "defaultVisibility": true,
   "subLayerIds": null,
   "minScale": 20000,
   "maxScale": 0,
   "supportsDynamicLegends": false
  },
  {
   "id": 4,
   "name": "Easement Vac 100",
   "parentLayerId": 0,
   "defaultVisibility": true,
   "subLayerIds": null,
   "minScale": 20000,
   "maxScale": 0,
   "supportsDynamicLegends": false
  },
  {
   "id": 5,
   "name": "Lot Dim 100",
   "parentLayerId": 0,
   "defaultVisibility": false,
   "subLayerIds": null,
   "minScale": 20000,
   "maxScale": 0,
   "supportsDynamicLegends": false
  },
  {
   "id": 6,
   "name": "Lot Num 100",
   "parentLayerId": 0,
   "defaultVisibility": false,
   "subLayerIds": null,
   "minScale": 20000,
   "maxScale": 0,
   "supportsDynamicLegends": false
  },
  {
   "id": 7,
   "name": "Lot Parcel Dim 100",
   "parentLayerId": 0,
   "defaultVisibility": false,
   "subLayerIds": null,
   "minScale": 20000,
   "maxScale": 0,
   "supportsDynamicLegends": false
  },
  {
   "id": 8,
   "name": "Parcel Dim 100",
   "parentLayerId": 0,
   "defaultVisibility": false,
   "subLayerIds": null,
   "minScale": 20000,
   "maxScale": 0,
   "supportsDynamicLegends": false
  },
  {
   "id": 9,
   "name": "ROW Dim 100",
   "parentLayerId": 0,
   "defaultVisibility": false,
   "subLayerIds": null,
   "minScale": 20000,
   "maxScale": 0,
   "supportsDynamicLegends": false
  },
  {
   "id": 10,
   "name": "Setback 100",
   "parentLayerId": 0,
   "defaultVisibility": false,
   "subLayerIds": null,
   "minScale": 20000,
   "maxScale": 0,
   "supportsDynamicLegends": false
  },
  {
   "id": 11,
   "name": "Setback Vac 100",
   "parentLayerId": 0,
   "defaultVisibility": false,
   "subLayerIds": null,
   "minScale": 20000,
   "maxScale": 0,
   "supportsDynamicLegends": false
  },
  {
   "id": 12,
   "name": "Unknown Anno",
   "parentLayerId": 0,
   "defaultVisibility": false,
   "subLayerIds": null,
   "minScale": 20000,
   "maxScale": 0,
   "supportsDynamicLegends": false
  }
 ],
 "tables": [],
 "spatialReference": {
  "wkid": 102678,
  "latestWkid": 3420,
  "xyTolerance": 0.003280833333333333,
  "zTolerance": 2,
  "mTolerance": 0.001,
  "falseX": -121025700,
  "falseY": -93674900,
  "xyUnits": 3.681274654427216E7,
  "falseZ": 0,
  "zUnits": 1,
  "falseM": -100000,
  "mUnits": 10000
 },
 "singleFusedMapCache": true,
 "tileInfo": {
  "rows": 256,
  "cols": 256,
  "dpi": 96,
  "format": "PNG32",
  "compressionQuality": 0,
  "origin": {
   "x": -121025700,
   "y": 151001200
  },
  "spatialReference": {
   "wkid": 102678,
   "latestWkid": 3420,
   "xyTolerance": 0.0032808333333333335,
   "zTolerance": 2,
   "mTolerance": 0.001,
   "falseX": -121025700,
   "falseY": -93674900,
   "xyUnits": 3.681274654427216E7,
   "falseZ": 0,
   "zUnits": 1,
   "falseM": -100000,
   "mUnits": 10000
  },
  "lods": [
   {
    "level": 0,
    "resolution": 250.7769097222222,
    "scale": 288895
   },
   {
    "level": 1,
    "resolution": 125.38888888888889,
    "scale": 144448
   },
   {
    "level": 2,
    "resolution": 62.69444444444444,
    "scale": 72224
   },
   {
    "level": 3,
    "resolution": 31.34722222222222,
    "scale": 36112
   },
   {
    "level": 4,
    "resolution": 15.67361111111111,
    "scale": 18056
   },
   {
    "level": 5,
    "resolution": 7.836805555555555,
    "scale": 9028
   },
   {
    "level": 6,
    "resolution": 3.9184027777777777,
    "scale": 4514
   },
   {
    "level": 7,
    "resolution": 1.9592013888888888,
    "scale": 2257
   },
   {
    "level": 8,
    "resolution": 0.9791666666666666,
    "scale": 1128
   },
   {
    "level": 9,
    "resolution": 0.4895833333333333,
    "scale": 564
   }
  ]
 },
 "storageInfo": {
  "storageFormat": "esriMapCacheStorageModeCompactV2",
  "packetSize": 128
 },
 "initialExtent": {
  "xmin": 1608241.4161351377,
  "ymin": 1686007.1471272062,
  "xmax": 1610621.8398664875,
  "ymax": 1688029.0379014888,
  "spatialReference": {
   "wkid": 102678,
   "latestWkid": 3420,
   "xyTolerance": 0.003280833333333333,
   "zTolerance": 2,
   "mTolerance": 0.001,
   "falseX": -121025700,
   "falseY": -93674900,
   "xyUnits": 3.681274654427216E7,
   "falseZ": 0,
   "zUnits": 1,
   "falseM": -100000,
   "mUnits": 10000
  }
 },
 "fullExtent": {
  "xmin": 1512448.5226222724,
  "ymin": 1607127.2452756912,
  "xmax": 1703092.0091166943,
  "ymax": 1768851.1429558545,
  "spatialReference": {
   "wkid": 102678,
   "latestWkid": 3420,
   "xyTolerance": 0.003280833333333333,
   "zTolerance": 2,
   "mTolerance": 0.001,
   "falseX": -121025700,
   "falseY": -93674900,
   "xyUnits": 3.681274654427216E7,
   "falseZ": 0,
   "zUnits": 1,
   "falseM": -100000,
   "mUnits": 10000
  }
 },
 "datesInUnknownTimezone": false,
 "minScale": 36112,
 "maxScale": 564,
 "minLOD": 3,
 "maxLOD": 9,
 "units": "esriFeet",
 "supportedImageFormatTypes": "PNG32,PNG24,PNG,JPG,DIB,TIFF,EMF,PS,PDF,GIF,SVG,SVGZ,BMP",
 "documentInfo": {
  "Title": "Service_Publishing.aprx",
  "Author": "",
  "Comments": "Annotation for Sedgwick County Easements",
  "Subject": "Annotation for Sedgwick County Easements",
  "Category": "",
  "AntialiasingMode": "None",
  "TextAntialiasingMode": "Force",
  "Version": "2.9.0",
  "Keywords": "Annotation,Easement"
 },
 "supportsQueryDomains": true,
 "capabilities": "Map,Query,Data",
 "supportedQueryFormats": "JSON, geoJSON, PBF",
 "hasVersionedData": true,
 "exportTilesAllowed": false,
 "referenceScale": 0.0,
 "supportsDatumTransformation": true,
 "floorAwareMapProperties": {
  "defaultFloorFilterSettings": {
   "isEnabled": false
  }
 },
 "archivingInfo": {
  "supportsHistoricMoment": false
 },
 "supportsClipping": true,
 "supportsSpatialFilter": true,
 "supportsTimeRelation": true,
 "supportsQueryDataElements": true,
 "maxRecordCount": 1000,
 "maxImageHeight": 4096,
 "maxImageWidth": 4096,
 "supportedExtensions": "",
 "serviceItemId": "e7fd26894ff4430da89c34354a54b71c"
}
