<?xml version="1.0" encoding="UTF-8" standalone="no"?>
<metadata xml:lang="en">
  <Esri>
    <MetaID>{D36ACE98-78BF-420A-B4CB-412BE3DD941D}</MetaID>
    <CreaDate>20100501</CreaDate>
    <CreaTime>14410100</CreaTime>
    <SyncOnce>FALSE</SyncOnce>
    <DataProperties>
      <itemProps>
        <itemName Sync="FALSE">DTM_FOURFT_MOSAIC</itemName>
        <nativeExtBox>
          <westBL Sync="TRUE">1512465.655462</westBL>
          <eastBL Sync="TRUE">1718213.655462</eastBL>
          <southBL Sync="TRUE">1607125.264180</southBL>
          <northBL Sync="TRUE">1768845.264180</northBL>
          <exTypeCode Sync="TRUE">1</exTypeCode>
        </nativeExtBox>
        <imsContentType Sync="TRUE" export="False">002</imsContentType>
      </itemProps>
      <coordRef>
        <type Sync="TRUE">Projected</type>
        <geogcsn Sync="TRUE">GCS_North_American_1983</geogcsn>
        <csUnits Sync="TRUE">Linear Unit: Foot_US (0.304801)</csUnits>
        <projcsn Sync="TRUE">NAD_1983_StatePlane_Kansas_South_FIPS_1502_Feet</projcsn>
        <peXml Sync="TRUE">&lt;ProjectedCoordinateSystem xsi:type='typens:ProjectedCoordinateSystem' xmlns:xsi='http://www.w3.org/2001/XMLSchema-instance' xmlns:xs='http://www.w3.org/2001/XMLSchema' xmlns:typens='http://www.esri.com/schemas/ArcGIS/10.3'&gt;&lt;WKT&gt;PROJCS[&amp;quot;NAD_1983_StatePlane_Kansas_South_FIPS_1502_Feet&amp;quot;,GEOGCS[&amp;quot;GCS_North_American_1983&amp;quot;,DATUM[&amp;quot;D_North_American_1983&amp;quot;,SPHEROID[&amp;quot;GRS_1980&amp;quot;,6378137.0,298.257222101]],PRIMEM[&amp;quot;Greenwich&amp;quot;,0.0],UNIT[&amp;quot;Degree&amp;quot;,0.0174532925199433]],PROJECTION[&amp;quot;Lambert_Conformal_Conic&amp;quot;],PARAMETER[&amp;quot;False_Easting&amp;quot;,1312333.333333333],PARAMETER[&amp;quot;False_Northing&amp;quot;,1312333.333333333],PARAMETER[&amp;quot;Central_Meridian&amp;quot;,-98.5],PARAMETER[&amp;quot;Standard_Parallel_1&amp;quot;,37.26666666666667],PARAMETER[&amp;quot;Standard_Parallel_2&amp;quot;,38.56666666666667],PARAMETER[&amp;quot;Latitude_Of_Origin&amp;quot;,36.66666666666666],UNIT[&amp;quot;Foot_US&amp;quot;,0.3048006096012192],AUTHORITY[&amp;quot;EPSG&amp;quot;,3420]]&lt;/WKT&gt;&lt;XOrigin&gt;-121025700&lt;/XOrigin&gt;&lt;YOrigin&gt;-93674900&lt;/YOrigin&gt;&lt;XYScale&gt;36812746.544272162&lt;/XYScale&gt;&lt;XYTolerance&gt;0.0032808333333333331&lt;/XYTolerance&gt;&lt;HighPrecision&gt;true&lt;/HighPrecision&gt;&lt;WKID&gt;102678&lt;/WKID&gt;&lt;LatestWKID&gt;3420&lt;/LatestWKID&gt;&lt;/ProjectedCoordinateSystem&gt;</peXml>
      </coordRef>
    </DataProperties>
    <SyncDate>20161013</SyncDate>
    <SyncTime>08512900</SyncTime>
    <ModDate>20161013</ModDate>
    <ModTime>08512900</ModTime>
    <ArcGISFormat>1.0</ArcGISFormat>
    <scaleRange>
      <minScale>500000</minScale>
      <maxScale>5000</maxScale>
    </scaleRange>
    <ArcGISProfile>ISO19139</ArcGISProfile>
  </Esri>
  <mdLang>
    <languageCode value="eng">
</languageCode>
    <countryCode Sync="TRUE" value="USA">
</countryCode>
  </mdLang>
  <mdChar>
    <CharSetCd value="004">
</CharSetCd>
  </mdChar>
  <mdHrLv>
    <ScopeCd value="005">
</ScopeCd>
  </mdHrLv>
  <mdContact>
    <rpIndName>Todd Mayer</rpIndName>
    <rpOrgName>City of Wichita</rpOrgName>
    <rpPosName>GIS Manager</rpPosName>
    <rpCntInfo>
      <cntPhone>
        <voiceNum>316.303.8141</voiceNum>
        <faxNum>316.219.6238</faxNum>
      </cntPhone>
      <cntAddress addressType="both">
        <delPoint>455 N. Main, Stop 1-04</delPoint>
        <city>Wichita</city>
        <adminArea>KS</adminArea>
        <postCode>67212</postCode>
        <country>US</country>
        <eMailAdd>tmayer@wichita.gov</eMailAdd>
      </cntAddress>
      <cntHours>0800-1700 CST, M-F</cntHours>
    </rpCntInfo>
    <role>
      <RoleCd value="007">
</RoleCd>
    </role>
  </mdContact>
  <mdDateSt Sync="TRUE">20161013</mdDateSt>
  <mdStanName>ArcGIS Metadata</mdStanName>
  <mdStanVer>1.0</mdStanVer>
  <distInfo>
    <distTranOps>
      <onLineSrc>
        <linkage>withheld</linkage>
      </onLineSrc>
    </distTranOps>
    <distFormat>
      <formatName Sync="FALSE">Raster Dataset</formatName>
      <formatVer>10.4.1</formatVer>
    </distFormat>
  </distInfo>
  <dataIdInfo>
    <idCitation>
      <resTitle Sync="FALSE">RLViewProd.GISDATAOWNER.DTM_FOURFT_MOSAIC</resTitle>
      <date>
        <pubDate>2008-01-01</pubDate>
      </date>
      <citRespParty>
        <rpOrgName>City of Wichita GIS</rpOrgName>
        <rpCntInfo>
          <cntAddress>
            <delPoint>Wichita, KS</delPoint>
          </cntAddress>
        </rpCntInfo>
        <role>
          <RoleCd value="010">
</RoleCd>
        </role>
      </citRespParty>
      <citRespParty>
        <rpOrgName>Merrick &amp; Co</rpOrgName>
        <role>
          <RoleCd value="006">
</RoleCd>
        </role>
      </citRespParty>
      <presForm>
        <PresFormCd value="005">
</PresFormCd>
      </presForm>
      <presForm>
        <fgdcGeoform>raster digital data</fgdcGeoform>
      </presForm>
    </idCitation>
    <idAbs>&lt;div style='text-align:Left;'&gt;&lt;div&gt;&lt;div&gt;&lt;p&gt;&lt;span&gt;Hillshade of the 4 foot DTM mosaic grid&lt;/span&gt;&lt;/p&gt;&lt;/div&gt;&lt;/div&gt;&lt;/div&gt;</idAbs>
    <idPurp>The Hillshade grid helps for viewing the DTM mosaic.</idPurp>
    <idStatus>
      <ProgCd value="001">
</ProgCd>
    </idStatus>
    <idPoC>
      <rpIndName>Todd Mayer</rpIndName>
      <rpOrgName>City of Wichita</rpOrgName>
      <rpPosName>GIS Manager</rpPosName>
      <rpCntInfo>
        <cntPhone>
          <voiceNum>316.303.8141</voiceNum>
          <faxNum>316.219.6238</faxNum>
        </cntPhone>
        <cntAddress addressType="both">
          <delPoint>455 N. Main, Stop 1-04</delPoint>
          <city>Wichita</city>
          <adminArea>KS</adminArea>
          <postCode>67212</postCode>
          <country>US</country>
          <eMailAdd>tmayer@wichita.gov</eMailAdd>
        </cntAddress>
        <cntHours>0800-1700 CST, M-F</cntHours>
      </rpCntInfo>
      <role>
        <RoleCd value="007">
</RoleCd>
      </role>
    </idPoC>
    <resMaint>
      <maintFreq>
        <MaintFreqCd value="012">
</MaintFreqCd>
      </maintFreq>
    </resMaint>
    <placeKeys>
      <keyword>Sedgwick County</keyword>
      <keyword>Kansas</keyword>
      <keyword>Wichita</keyword>
    </placeKeys>
    <tempKeys>
      <keyword>2008</keyword>
    </tempKeys>
    <themeKeys>
      <keyword>DTM</keyword>
      <keyword>ESRI grid</keyword>
    </themeKeys>
    <searchKeys>
      <keyword>Sedgwick County</keyword>
      <keyword>DTM</keyword>
      <keyword>Kansas</keyword>
      <keyword>2008</keyword>
      <keyword>ESRI grid</keyword>
      <keyword>Wichita</keyword>
    </searchKeys>
    <resConst>
      <LegConsts>
        <othConsts>Unknown</othConsts>
      </LegConsts>
    </resConst>
    <resConst>
      <Consts>
        <useLimit>&lt;div style='text-align:Left;'&gt;&lt;div&gt;&lt;div&gt;&lt;p&gt;&lt;span&gt;&lt;span&gt;It is understood that the information contained in this website was prepared by Sedgwick County Geographic Information Services (SCGIS), the City of Wichita and other participating agencies and information suppliers. The information is provided to the recipient with the express understanding that SCGIS and the City of Wichita make no warranties or representations of any kind, express or implied, regarding the accuracy of the information, data, or images provided herein. Flood plain maps and information derived from such maps are not suitable to be used in completing a Flood Hazard Determination Form (FEMA form 81-93 or a successor form) and flood hazard information should not be used for regulation, enforcement or insurance rating purposes. All information, data, and services contained in this website and provided by the above agencies are “as is” and “with all faults” and by accessing this website, the recipient accepts the risk of any errors or omissions. By accessing and using this information, data or service you agree to hold Sedgwick County, the Board of County Commissioners of Sedgwick County, the City of Wichita, and the employees and agents of each separate municipality, harmless in all matters and accounts arising from the use or reliance on the completeness or accuracy of this information, data or service.&lt;/span&gt;&lt;/span&gt;&lt;/p&gt;&lt;p&gt;&lt;span /&gt;&lt;/p&gt;&lt;/div&gt;&lt;/div&gt;&lt;/div&gt;</useLimit>
      </Consts>
    </resConst>
    <dataLang>
      <languageCode value="eng">
</languageCode>
      <countryCode Sync="TRUE" value="USA">
</countryCode>
    </dataLang>
    <envirDesc Sync="FALSE">Esri ArcGIS 10.3.1.4959</envirDesc>
    <dataExt>
      <geoEle>
        <GeoBndBox>
          <westBL>-97.591635</westBL>
          <eastBL>-97.093002</eastBL>
          <southBL>37.473378</southBL>
          <northBL>37.913991</northBL>
        </GeoBndBox>
      </geoEle>
    </dataExt>
    <dataExt>
      <exDesc>ground condition</exDesc>
      <tempEle>
        <TempExtent>
          <exTemp>
            <TM_Period>
              <tmBegin time="unknown">2008-03-09</tmBegin>
              <tmEnd time="unknown">2008-04-01</tmEnd>
            </TM_Period>
          </exTemp>
        </TempExtent>
      </tempEle>
    </dataExt>
    <spatRpType>
      <SpatRepTypCd Sync="TRUE" value="002">
</SpatRepTypCd>
    </spatRpType>
    <dataExt>
      <geoEle>
        <GeoBndBox esriExtentType="search">
          <exTypeCode Sync="TRUE">1</exTypeCode>
          <westBL Sync="TRUE">-97.810355</westBL>
          <eastBL Sync="TRUE">-97.093030</eastBL>
          <northBL Sync="TRUE">37.918353</northBL>
          <southBL Sync="TRUE">37.467901</southBL>
        </GeoBndBox>
      </geoEle>
    </dataExt>
    <idCredit>Merrick &amp; Co, Sedgwick County and the City of Wichita</idCredit>
    <tpCat>
      <TopicCatCd value="010">
</TopicCatCd>
    </tpCat>
  </dataIdInfo>
  <mdConst>
    <LegConsts>
      <accessConsts>
        <RestrictCd value="008">
</RestrictCd>
      </accessConsts>
      <othConsts>Unknown</othConsts>
    </LegConsts>
  </mdConst>
  <mdConst>
    <Consts>
      <useLimit>Unknown</useLimit>
    </Consts>
  </mdConst>
  <dqInfo>
    <dqScope>
      <scpLvl>
        <ScopeCd value="005">
</ScopeCd>
      </scpLvl>
    </dqScope>
    <report dimension="" type="DQTopConsis">
      <evalMethDesc>Data covers the tile scheme provided for the county and was verified for correct topology.</evalMethDesc>
      <measResult>
        <QuanResult>
          <quanValUnit>
            <UOM gmlID="" type="">
              <unitSymbol>[iU]</unitSymbol>
            </UOM>
          </quanValUnit>
          <quanVal>1</quanVal>
        </QuanResult>
      </measResult>
    </report>
    <report dimension="" type="DQConcConsis">
      <measDesc>Data covers the tile scheme provided for the county and was verified for correct topology.</measDesc>
      <measResult>
        <QuanResult>
          <quanValUnit>
            <UOM gmlID="" type="">
              <unitSymbol>[arb'U]</unitSymbol>
            </UOM>
          </quanValUnit>
          <quanVal>1</quanVal>
        </QuanResult>
      </measResult>
    </report>
    <report dimension="" type="DQCompOm">
      <measDesc>A visual qualitative assessment was performed to ensure the data completeness against the ortho images.</measDesc>
      <measResult>
        <QuanResult>
          <quanValUnit>
            <UOM gmlID="" type="">
              <unitSymbol>[arb'U]</unitSymbol>
            </UOM>
          </quanValUnit>
          <quanVal>1</quanVal>
        </QuanResult>
      </measResult>
    </report>
    <report dimension="horizontal" type="DQAbsExtPosAcc">
      <measDesc>Horizontal accuracy is verified in three tests. During boresighting, adjoining flightlines are view in profile and hard edged features are observed and if necessary the flightlines are adjusted for good relative horizontal and vertical fit. The second test for horizontal accuracy is by comparing raw contours from each flightline against adjoining flightlines at specific points. The final test is the vertical LIDAR control report.</measDesc>
      <evalMethDesc>The horizontal positional accuracy value is derived from a standard aerotriangulation process known as a simultaneous bundle adjustment. Coordinates of ground points are derived from the measured coordinates of image points using mathematical functions. These corrections are made to points distributed over a large area, known as a block. The resulting solution is obtained simultaneously for all points to maintain consistency of all the stereo-models within the block.</evalMethDesc>
      <measResult>
        <QuanResult>
          <quanVal>1.02 feet RMSE</quanVal>
          <quanValUnit>
            <UOM gmlID="" type="">
              <unitSymbol>[iU]</unitSymbol>
            </UOM>
          </quanValUnit>
        </QuanResult>
      </measResult>
    </report>
    <report dimension="vertical" type="DQAbsExtPosAcc">
      <measDesc>LIDAR surface was tested for vertical accuracy by comparing their values to known control points. Merrick used new ground control points to support the accuracy requirements. The result of this is shown in the LIDAR control report. Supplemental breaklines were added to more accurately model certain features. Contour lines were generated from this enhanced surface and were verified for accuracy against surveyed spot elevations.</measDesc>
      <evalMethDesc>This value exceeds the NSSDA standard for one-foot (1') interval contours</evalMethDesc>
      <measResult>
        <QuanResult>
          <quanVal>.11 RMSEz</quanVal>
          <quanValUnit>
            <UOM gmlID="" type="">
              <unitSymbol>[arb'U]</unitSymbol>
            </UOM>
          </quanValUnit>
        </QuanResult>
      </measResult>
    </report>
    <dataLineage>
      <prcStep>
        <stepDesc>LIDAR data was collected using Merrick's ALS50 Phase 2 sensor. Last Return pulses and breakpoints were exported from MARS as a float grid, which was then imported into ArcGIS and converted to an ESRI grid. The 4 foot DTM grid mosaic was exported to a hillshade grid using ArcInfo.</stepDesc>
        <stepDateTm date="unknown">
</stepDateTm>
        <stepProc>
          <rpIndName>Kenny Legleiter</rpIndName>
          <rpOrgName>Merrick &amp; Co</rpOrgName>
          <rpPosName>Project Manager</rpPosName>
          <rpCntInfo>
            <cntPhone>
              <voiceNum>303-353-3837</voiceNum>
              <faxNum>303-745-0964</faxNum>
            </cntPhone>
            <cntAddress addressType="both">
              <delPoint>2450 S. Peoria St</delPoint>
              <city>Aurora</city>
              <adminArea>Co</adminArea>
              <postCode>80014</postCode>
              <country>US</country>
              <eMailAdd>kenny.legleiter@merrick.com</eMailAdd>
            </cntAddress>
            <cntHours>0800-1700 M-F</cntHours>
          </rpCntInfo>
          <role>
            <RoleCd value="009">
</RoleCd>
          </role>
        </stepProc>
        <stepSrc type="used">
          <srcCitatn>
            <resAltTitle>LIDAR</resAltTitle>
          </srcCitatn>
        </stepSrc>
      </prcStep>
      <dataSource type="">
        <srcDesc>LiDAR dataset were used for 3D breakline compilation that helped constrain the contours</srcDesc>
        <srcMedName>
          <MedNameCd value="015">
</MedNameCd>
        </srcMedName>
        <srcCitatn>
          <resTitle>Lidar</resTitle>
          <resAltTitle>Lidar</resAltTitle>
          <date>
            <pubDate>2008-01-01</pubDate>
          </date>
          <citRespParty>
            <rpOrgName>Merrick &amp; Co</rpOrgName>
            <role>
              <RoleCd value="006">
</RoleCd>
            </role>
          </citRespParty>
          <presForm>
            <PresFormCd value="005">
</PresFormCd>
          </presForm>
          <presForm>
            <fgdcGeoform>vector digital data</fgdcGeoform>
          </presForm>
          <otherCitDet>Lidar Survey of Sedgwick Co., KS from 03/09/2008 to 04/01/2008</otherCitDet>
        </srcCitatn>
        <srcExt>
          <exDesc>ground condition</exDesc>
          <tempEle>
            <TempExtent>
              <exTemp>
                <TM_Period>
                  <tmBegin time="unknown">2008-03-09</tmBegin>
                  <tmEnd time="unknown">2008-04-01</tmEnd>
                </TM_Period>
              </exTemp>
            </TempExtent>
          </tempEle>
        </srcExt>
      </dataSource>
    </dataLineage>
  </dqInfo>
  <spatRepInfo>
    <VectSpatRep>
      <geometObjs>
        <geoObjTyp>
          <GeoObjTypCd value="002">
</GeoObjTypCd>
        </geoObjTyp>
        <geoObjCnt>9097</geoObjCnt>
      </geometObjs>
    </VectSpatRep>
  </spatRepInfo>
  <eainfo>
    <detailed>
      <enttyp>
        <enttypl>
hill4ft.vat</enttypl>
        <enttypd>ESRI grid</enttypd>
        <enttypds>Merrick &amp; Co</enttypds>
      </enttyp>
      <attr>
        <attrlabl>Rowid</attrlabl>
        <attrdef>Internal feature number.</attrdef>
        <attrdefs>ESRI</attrdefs>
        <attrdomv>
          <udom>Sequential unique whole numbers that are automatically generated.</udom>
        </attrdomv>
      </attr>
      <attr>
        <attrlabl>VALUE</attrlabl>
      </attr>
      <attr>
        <attrlabl>COUNT</attrlabl>
      </attr>
    </detailed>
  </eainfo>
  <mdHrLvName Sync="TRUE">dataset</mdHrLvName>
  <refSysInfo>
    <RefSystem>
      <refSysID>
        <identCode Sync="TRUE" code="3420">
</identCode>
        <idCodeSpace Sync="TRUE">EPSG</idCodeSpace>
        <idVersion Sync="TRUE">8.6.2</idVersion>
      </refSysID>
    </RefSystem>
  </refSysInfo>
  <spdoinfo>
    <rastinfo>
      <rasttype Sync="TRUE">Pixel</rasttype>
      <rowcount Sync="TRUE">40430</rowcount>
      <colcount Sync="TRUE">51437</colcount>
      <rastxsz Sync="TRUE">4.000000</rastxsz>
      <rastysz Sync="TRUE">4.000000</rastysz>
      <rastbpp Sync="TRUE">32</rastbpp>
      <vrtcount Sync="TRUE">1</vrtcount>
      <rastorig Sync="TRUE">Upper Left</rastorig>
      <rastcmap Sync="TRUE">FALSE</rastcmap>
      <rastcomp Sync="TRUE">LZ77</rastcomp>
      <rastband Sync="TRUE">1</rastband>
      <rastdtyp Sync="TRUE">pixel codes</rastdtyp>
      <rastifor Sync="TRUE">SDR</rastifor>
      <rastplyr Sync="TRUE">TRUE</rastplyr>
    </rastinfo>
  </spdoinfo>
  <spref>
    <horizsys>
      <planar>
        <planci>
          <plance Sync="TRUE">row and column</plance>
          <coordrep>
            <absres Sync="TRUE">4.000000</absres>
            <ordres Sync="TRUE">4.000000</ordres>
          </coordrep>
        </planci>
      </planar>
    </horizsys>
  </spref>
</metadata>
