{
 "currentVersion": 10.91,
 "serviceDescription": "Sedgwick County Areas of Influence",
 "mapName": "Layers",
 "description": "",
 "copyrightText": "",
 "supportsDynamicLayers": true,
 "layers": [
  {
   "id": 0,
   "name": "Area Of Influence",
   "parentLayerId": -1,
   "defaultVisibility": true,
   "subLayerIds": null,
   "minScale": 0,
   "maxScale": 0,
   "type": "Feature Layer",
   "geometryType": "esriGeometryPolygon"
  }
 ],
 "tables": [],
 "spatialReference": {
  "wkid": 102678,
  "latestWkid": 3420
 },
 "singleFusedMapCache": true,
 "tileInfo": {
  "rows": 256,
  "cols": 256,
  "dpi": 96,
  "format": "PNG32",
  "compressionQuality": 0,
  "origin": {
   "x": -121025700,
   "y": 151001200
  },
  "spatialReference": {
   "wkid": 102678,
   "latestWkid": 3420
  },
  "lods": [
   {
    "level": 0,
    "resolution": 250.7769097222222,
    "scale": 288895
   },
   {
    "level": 1,
    "resolution": 125.38888888888889,
    "scale": 144448
   },
   {
    "level": 2,
    "resolution": 62.69444444444444,
    "scale": 72224
   },
   {
    "level": 3,
    "resolution": 31.34722222222222,
    "scale": 36112
   },
   {
    "level": 4,
    "resolution": 15.67361111111111,
    "scale": 18056
   },
   {
    "level": 5,
    "resolution": 7.836805555555555,
    "scale": 9028
   },
   {
    "level": 6,
    "resolution": 3.9184027777777777,
    "scale": 4514
   },
   {
    "level": 7,
    "resolution": 1.9592013888888888,
    "scale": 2257
   },
   {
    "level": 8,
    "resolution": 0.9791666666666666,
    "scale": 1128
   },
   {
    "level": 9,
    "resolution": 0.4895833333333333,
    "scale": 564
   }
  ]
 },
 "initialExtent": {
  "xmin": 1425187.216901835,
  "ymin": 1645120.1655807355,
  "xmax": 1787810.9762336267,
  "ymax": 1780790.603892284,
  "spatialReference": {
   "wkid": 102678,
   "latestWkid": 3420
  }
 },
 "fullExtent": {
  "xmin": 1515134.6182861328,
  "ymin": 1609253.579284668,
  "xmax": 1692381.6262817383,
  "ymax": 1767828.7999267578,
  "spatialReference": {
   "wkid": 102678,
   "latestWkid": 3420
  }
 },
 "minScale": 288895,
 "maxScale": 564,
 "minLOD": 0,
 "maxLOD": 9,
 "units": "esriFeet",
 "supportedImageFormatTypes": "PNG32,PNG24,PNG,JPG,DIB,TIFF,EMF,PS,PDF,GIF,SVG,SVGZ,BMP",
 "documentInfo": {
  "Title": "",
  "Author": "",
  "Comments": "Sedgwick County Areas of Influence",
  "Subject": "Sedgwick County Areas of Influence",
  "Category": "",
  "AntialiasingMode": "None",
  "TextAntialiasingMode": "Force",
  "Keywords": "Areas,Influence"
 },
 "capabilities": "Map,Query,Data",
 "supportedQueryFormats": "JSON, geoJSON",
 "exportTilesAllowed": false,
 "referenceScale": 0,
 "supportsDatumTransformation": true,
 "maxRecordCount": 1000,
 "maxImageHeight": 4096,
 "maxImageWidth": 4096,
 "supportedExtensions": "",
 "serviceItemId": "ab4c07d292914fd5a807f41907c96f88"
}
