<?xml version="1.0" encoding="UTF-8"?>
<Capabilities xmlns="http://www.opengis.net/wmts/1.0"
	xmlns:ows="http://www.opengis.net/ows/1.1"
	xmlns:xlink="http://www.w3.org/1999/xlink"
	xmlns:xsi="http://www.w3.org/2001/XMLSchema-instance"
	xmlns:gml="http://www.opengis.net/gml"
	xsi:schemaLocation="http://www.opengis.net/wmts/1.0 http://schemas.opengis.net/wmts/1.0/wmtsGetCapabilities_response.xsd"
	version="1.0.0">
  <!-- Service Identification --> 
 <ows:ServiceIdentification>
	<ows:Title>Map_Base_StreetsNoTint_Cached_SP</ows:Title>
	<ows:ServiceType>OGC WMTS</ows:ServiceType>
	<ows:ServiceTypeVersion>1.0.0</ows:ServiceTypeVersion>
</ows:ServiceIdentification> <!-- Operations Metadata --> <ows:OperationsMetadata>
	<ows:Operation name="GetCapabilities">
		<ows:DCP>
			<ows:HTTP>
				<ows:Get xlink:href="https://gismaps.sedgwickcounty.org/arcgis/rest/services/Map/Base_StreetsNoTint_Cached_SP/MapServer/WMTS/1.0.0/WMTSCapabilities.xml">
					<ows:Constraint name="GetEncoding">
						<ows:AllowedValues>
							<ows:Value>RESTful</ows:Value>
						</ows:AllowedValues>
					</ows:Constraint>
				</ows:Get>
                <!-- add KVP binding in 10.1 -->
                <ows:Get xlink:href="https://gismaps.sedgwickcounty.org/arcgis/rest/services/Map/Base_StreetsNoTint_Cached_SP/MapServer/WMTS?">
                  <ows:Constraint name="GetEncoding">
                    <ows:AllowedValues>
                      <ows:Value>KVP</ows:Value>
                    </ows:AllowedValues>
                  </ows:Constraint>
                </ows:Get>
    		</ows:HTTP>
    </ows:DCP>
	</ows:Operation>
	<ows:Operation name="GetTile">
		<ows:DCP>
			<ows:HTTP>
				<ows:Get xlink:href="https://gismaps.sedgwickcounty.org/arcgis/rest/services/Map/Base_StreetsNoTint_Cached_SP/MapServer/WMTS/tile/1.0.0/">
					<ows:Constraint name="GetEncoding">
						<ows:AllowedValues>
							<ows:Value>RESTful</ows:Value>
						</ows:AllowedValues>
					</ows:Constraint>
				</ows:Get>
                <ows:Get xlink:href="https://gismaps.sedgwickcounty.org/arcgis/rest/services/Map/Base_StreetsNoTint_Cached_SP/MapServer/WMTS?">
                  <ows:Constraint name="GetEncoding">
                    <ows:AllowedValues>
                      <ows:Value>KVP</ows:Value>
                    </ows:AllowedValues>
                  </ows:Constraint>
                </ows:Get>
            </ows:HTTP>
		</ows:DCP>
	</ows:Operation>
</ows:OperationsMetadata> 
<Contents>
  <!--Layer-->  
  <Layer>
    <ows:Title>Map_Base_StreetsNoTint_Cached_SP</ows:Title> 
    <ows:Identifier>Map_Base_StreetsNoTint_Cached_SP</ows:Identifier>
    <ows:BoundingBox crs="urn:ogc:def:crs:EPSG::3420">
	  <ows:LowerCorner>1512448.7329236865 1607120.374882564</ows:LowerCorner>
			<ows:UpperCorner>1703121.749870807 1768863.124887228</ows:UpperCorner>
		</ows:BoundingBox>  
      <ows:WGS84BoundingBox crs="urn:ogc:def:crs:OGC:2:84">
      <ows:LowerCorner>-97.81041358919056 37.46849805719674</ows:LowerCorner>
      <ows:UpperCorner>-97.14533705382084 37.91840267915139</ows:UpperCorner>
    </ows:WGS84BoundingBox>
    <Style isDefault="true">
      <ows:Title>Default Style</ows:Title>
      <ows:Identifier>default</ows:Identifier>
    </Style>
    <Format>image/png</Format>
    <TileMatrixSetLink>
      <TileMatrixSet>default028mm</TileMatrixSet>
    </TileMatrixSetLink>
      <ResourceURL format="image/png" resourceType="tile" template="https://gismaps.sedgwickcounty.org/arcgis/rest/services/Map/Base_StreetsNoTint_Cached_SP/MapServer/WMTS/tile/1.0.0/Map_Base_StreetsNoTint_Cached_SP/{Style}/{TileMatrixSet}/{TileMatrix}/{TileRow}/{TileCol}.png" />
  </Layer> 
   <!--TileMatrixSet-->
   <TileMatrixSet>
     <ows:Title>TileMatrix using 0.28mm</ows:Title>
     <ows:Abstract>The tile matrix set that has scale values calculated based on the dpi defined by OGC specification (dpi assumes 0.28mm as the physical distance of a pixel).</ows:Abstract> 
     <ows:Identifier>default028mm</ows:Identifier>
     <ows:SupportedCRS>urn:ogc:def:crs:EPSG::3420</ows:SupportedCRS>
      <TileMatrix>
          <ows:Identifier>0</ows:Identifier>
          <ScaleDenominator>272989.3867323701</ScaleDenominator>
          <TopLeftCorner>-2.0037508342787E7 2.0037508342787E7</TopLeftCorner>  
          <TileWidth>256</TileWidth> 
          <TileHeight>256</TileHeight>
          <MatrixWidth>339</MatrixWidth> 
            <MatrixHeight>288</MatrixHeight>
          </TileMatrix>
          <TileMatrix>
          <ows:Identifier>1</ows:Identifier>
          <ScaleDenominator>136494.69336618506</ScaleDenominator>
          <TopLeftCorner>-2.0037508342787E7 2.0037508342787E7</TopLeftCorner>  
          <TileWidth>256</TileWidth> 
          <TileHeight>256</TileHeight>
          <MatrixWidth>678</MatrixWidth> 
            <MatrixHeight>575</MatrixHeight>
          </TileMatrix>
          <TileMatrix>
          <ows:Identifier>2</ows:Identifier>
          <ScaleDenominator>68247.34668309253</ScaleDenominator>
          <TopLeftCorner>-2.0037508342787E7 2.0037508342787E7</TopLeftCorner>  
          <TileWidth>256</TileWidth> 
          <TileHeight>256</TileHeight>
          <MatrixWidth>1355</MatrixWidth> 
            <MatrixHeight>1149</MatrixHeight>
          </TileMatrix>
          <TileMatrix>
          <ows:Identifier>3</ows:Identifier>
          <ScaleDenominator>34123.673341546266</ScaleDenominator>
          <TopLeftCorner>-2.0037508342787E7 2.0037508342787E7</TopLeftCorner>  
          <TileWidth>256</TileWidth> 
          <TileHeight>256</TileHeight>
          <MatrixWidth>2710</MatrixWidth> 
            <MatrixHeight>2297</MatrixHeight>
          </TileMatrix>
          <TileMatrix>
          <ows:Identifier>4</ows:Identifier>
          <ScaleDenominator>17061.836671245605</ScaleDenominator>
          <TopLeftCorner>-2.0037508342787E7 2.0037508342787E7</TopLeftCorner>  
          <TileWidth>256</TileWidth> 
          <TileHeight>256</TileHeight>
          <MatrixWidth>5419</MatrixWidth> 
            <MatrixHeight>4594</MatrixHeight>
          </TileMatrix>
          <TileMatrix>
          <ows:Identifier>5</ows:Identifier>
          <ScaleDenominator>8530.918335622802</ScaleDenominator>
          <TopLeftCorner>-2.0037508342787E7 2.0037508342787E7</TopLeftCorner>  
          <TileWidth>256</TileWidth> 
          <TileHeight>256</TileHeight>
          <MatrixWidth>10837</MatrixWidth> 
            <MatrixHeight>9187</MatrixHeight>
          </TileMatrix>
          <TileMatrix>
          <ows:Identifier>6</ows:Identifier>
          <ScaleDenominator>4265.45916733893</ScaleDenominator>
          <TopLeftCorner>-2.0037508342787E7 2.0037508342787E7</TopLeftCorner>  
          <TileWidth>256</TileWidth> 
          <TileHeight>256</TileHeight>
          <MatrixWidth>21674</MatrixWidth> 
            <MatrixHeight>18374</MatrixHeight>
          </TileMatrix>
          <TileMatrix>
          <ows:Identifier>7</ows:Identifier>
          <ScaleDenominator>2132.7295841419364</ScaleDenominator>
          <TopLeftCorner>-2.0037508342787E7 2.0037508342787E7</TopLeftCorner>  
          <TileWidth>256</TileWidth> 
          <TileHeight>256</TileHeight>
          <MatrixWidth>43347</MatrixWidth> 
            <MatrixHeight>36747</MatrixHeight>
          </TileMatrix>
          <TileMatrix>
          <ows:Identifier>8</ows:Identifier>
          <ScaleDenominator>1066.3647915984968</ScaleDenominator>
          <TopLeftCorner>-2.0037508342787E7 2.0037508342787E7</TopLeftCorner>  
          <TileWidth>256</TileWidth> 
          <TileHeight>256</TileHeight>
          <MatrixWidth>86694</MatrixWidth> 
            <MatrixHeight>73494</MatrixHeight>
          </TileMatrix>
          <TileMatrix>
          <ows:Identifier>9</ows:Identifier>
          <ScaleDenominator>532.9474944663506</ScaleDenominator>
          <TopLeftCorner>-2.0037508342787E7 2.0037508342787E7</TopLeftCorner>  
          <TileWidth>256</TileWidth> 
          <TileHeight>256</TileHeight>
          <MatrixWidth>173463</MatrixWidth> 
            <MatrixHeight>147051</MatrixHeight>
          </TileMatrix>
          </TileMatrixSet>
   </Contents>
<ServiceMetadataURL xlink:href="https://gismaps.sedgwickcounty.org/arcgis/rest/services/Map/Base_StreetsNoTint_Cached_SP/MapServer/WMTS/1.0.0/WMTSCapabilities.xml" /> 
</Capabilities>
