<?xml version="1.0" encoding="UTF-8"?>
<Capabilities xmlns="http://www.opengis.net/wmts/1.0"
	xmlns:ows="http://www.opengis.net/ows/1.1"
	xmlns:xlink="http://www.w3.org/1999/xlink"
	xmlns:xsi="http://www.w3.org/2001/XMLSchema-instance"
	xmlns:gml="http://www.opengis.net/gml"
	xsi:schemaLocation="http://www.opengis.net/wmts/1.0 http://schemas.opengis.net/wmts/1.0/wmtsGetCapabilities_response.xsd"
	version="1.0.0">
  <!-- Service Identification --> 
 <ows:ServiceIdentification>
	<ows:Title>Map_Base_Aerials2003_Cached_SP</ows:Title>
	<ows:ServiceType>OGC WMTS</ows:ServiceType>
	<ows:ServiceTypeVersion>1.0.0</ows:ServiceTypeVersion>
</ows:ServiceIdentification> <!-- Operations Metadata --> <ows:OperationsMetadata>
	<ows:Operation name="GetCapabilities">
		<ows:DCP>
			<ows:HTTP>
				<ows:Get xlink:href="https://gismaps.sedgwickcounty.org/arcgis/rest/services/Map/Base_Aerials2003_Cached_SP/MapServer/WMTS/1.0.0/WMTSCapabilities.xml">
					<ows:Constraint name="GetEncoding">
						<ows:AllowedValues>
							<ows:Value>RESTful</ows:Value>
						</ows:AllowedValues>
					</ows:Constraint>
				</ows:Get>
                <!-- add KVP binding in 10.1 -->
                <ows:Get xlink:href="https://gismaps.sedgwickcounty.org/arcgis/rest/services/Map/Base_Aerials2003_Cached_SP/MapServer/WMTS?">
                  <ows:Constraint name="GetEncoding">
                    <ows:AllowedValues>
                      <ows:Value>KVP</ows:Value>
                    </ows:AllowedValues>
                  </ows:Constraint>
                </ows:Get>
    		</ows:HTTP>
    </ows:DCP>
	</ows:Operation>
	<ows:Operation name="GetTile">
		<ows:DCP>
			<ows:HTTP>
				<ows:Get xlink:href="https://gismaps.sedgwickcounty.org/arcgis/rest/services/Map/Base_Aerials2003_Cached_SP/MapServer/WMTS/tile/1.0.0/">
					<ows:Constraint name="GetEncoding">
						<ows:AllowedValues>
							<ows:Value>RESTful</ows:Value>
						</ows:AllowedValues>
					</ows:Constraint>
				</ows:Get>
                <ows:Get xlink:href="https://gismaps.sedgwickcounty.org/arcgis/rest/services/Map/Base_Aerials2003_Cached_SP/MapServer/WMTS?">
                  <ows:Constraint name="GetEncoding">
                    <ows:AllowedValues>
                      <ows:Value>KVP</ows:Value>
                    </ows:AllowedValues>
                  </ows:Constraint>
                </ows:Get>
            </ows:HTTP>
		</ows:DCP>
	</ows:Operation>
</ows:OperationsMetadata> 
<Contents>
  <!--Layer-->  
  <Layer>
    <ows:Title>Map_Base_Aerials2003_Cached_SP</ows:Title> 
    <ows:Identifier>Map_Base_Aerials2003_Cached_SP</ows:Identifier>
    <ows:BoundingBox crs="urn:ogc:def:crs:EPSG::3420">
	  <ows:LowerCorner>1512448.7329236865 1607121.090104267</ows:LowerCorner>
			<ows:UpperCorner>1703360.0516230315 1769030.0909518152</ows:UpperCorner>
		</ows:BoundingBox>  
      <ows:WGS84BoundingBox crs="urn:ogc:def:crs:OGC:2:84">
      <ows:LowerCorner>-97.81041357096214 37.46849056647594</ows:LowerCorner>
      <ows:UpperCorner>-97.14450268622004 37.91886119745842</ows:UpperCorner>
    </ows:WGS84BoundingBox>
    <Style isDefault="true">
      <ows:Title>Default Style</ows:Title>
      <ows:Identifier>default</ows:Identifier>
    </Style>
    <Format>image/png</Format>
    <TileMatrixSetLink>
      <TileMatrixSet>default028mm</TileMatrixSet>
    </TileMatrixSetLink>
      <ResourceURL format="image/png" resourceType="tile" template="https://gismaps.sedgwickcounty.org/arcgis/rest/services/Map/Base_Aerials2003_Cached_SP/MapServer/WMTS/tile/1.0.0/Map_Base_Aerials2003_Cached_SP/{Style}/{TileMatrixSet}/{TileMatrix}/{TileRow}/{TileCol}.png" />
  </Layer> 
   <!--TileMatrixSet-->
   <TileMatrixSet>
     <ows:Title>TileMatrix using 0.28mm</ows:Title>
     <ows:Abstract>The tile matrix set that has scale values calculated based on the dpi defined by OGC specification (dpi assumes 0.28mm as the physical distance of a pixel).</ows:Abstract> 
     <ows:Identifier>default028mm</ows:Identifier>
     <ows:SupportedCRS>urn:ogc:def:crs:EPSG::3420</ows:SupportedCRS>
      <TileMatrix>
          <ows:Identifier>0</ows:Identifier>
          <ScaleDenominator>1091957.5469304253</ScaleDenominator>
          <TopLeftCorner>-1.210257E8 1.510012E8</TopLeftCorner>  
          <TileWidth>512</TileWidth> 
          <TileHeight>512</TileHeight>
          <MatrixWidth>239</MatrixWidth> 
            <MatrixHeight>291</MatrixHeight>
          </TileMatrix>
          <TileMatrix>
          <ows:Identifier>1</ows:Identifier>
          <ScaleDenominator>545978.7734656851</ScaleDenominator>
          <TopLeftCorner>-1.210257E8 1.510012E8</TopLeftCorner>  
          <TileWidth>512</TileWidth> 
          <TileHeight>512</TileHeight>
          <MatrixWidth>478</MatrixWidth> 
            <MatrixHeight>582</MatrixHeight>
          </TileMatrix>
          <TileMatrix>
          <ows:Identifier>2</ows:Identifier>
          <ScaleDenominator>272989.38673237007</ScaleDenominator>
          <TopLeftCorner>-1.210257E8 1.510012E8</TopLeftCorner>  
          <TileWidth>512</TileWidth> 
          <TileHeight>512</TileHeight>
          <MatrixWidth>956</MatrixWidth> 
            <MatrixHeight>1164</MatrixHeight>
          </TileMatrix>
          <TileMatrix>
          <ows:Identifier>3</ows:Identifier>
          <ScaleDenominator>136494.69336618503</ScaleDenominator>
          <TopLeftCorner>-1.210257E8 1.510012E8</TopLeftCorner>  
          <TileWidth>512</TileWidth> 
          <TileHeight>512</TileHeight>
          <MatrixWidth>1912</MatrixWidth> 
            <MatrixHeight>2328</MatrixHeight>
          </TileMatrix>
          <TileMatrix>
          <ows:Identifier>4</ows:Identifier>
          <ScaleDenominator>68247.34668309252</ScaleDenominator>
          <TopLeftCorner>-1.210257E8 1.510012E8</TopLeftCorner>  
          <TileWidth>512</TileWidth> 
          <TileHeight>512</TileHeight>
          <MatrixWidth>3824</MatrixWidth> 
            <MatrixHeight>4655</MatrixHeight>
          </TileMatrix>
          <TileMatrix>
          <ows:Identifier>5</ows:Identifier>
          <ScaleDenominator>34123.67334154626</ScaleDenominator>
          <TopLeftCorner>-1.210257E8 1.510012E8</TopLeftCorner>  
          <TileWidth>512</TileWidth> 
          <TileHeight>512</TileHeight>
          <MatrixWidth>7647</MatrixWidth> 
            <MatrixHeight>9309</MatrixHeight>
          </TileMatrix>
          <TileMatrix>
          <ows:Identifier>6</ows:Identifier>
          <ScaleDenominator>17061.8366712456</ScaleDenominator>
          <TopLeftCorner>-1.210257E8 1.510012E8</TopLeftCorner>  
          <TileWidth>512</TileWidth> 
          <TileHeight>512</TileHeight>
          <MatrixWidth>15294</MatrixWidth> 
            <MatrixHeight>18617</MatrixHeight>
          </TileMatrix>
          <TileMatrix>
          <ows:Identifier>7</ows:Identifier>
          <ScaleDenominator>8530.9183356228</ScaleDenominator>
          <TopLeftCorner>-1.210257E8 1.510012E8</TopLeftCorner>  
          <TileWidth>512</TileWidth> 
          <TileHeight>512</TileHeight>
          <MatrixWidth>30588</MatrixWidth> 
            <MatrixHeight>37233</MatrixHeight>
          </TileMatrix>
          <TileMatrix>
          <ows:Identifier>8</ows:Identifier>
          <ScaleDenominator>4265.45916733893</ScaleDenominator>
          <TopLeftCorner>-1.210257E8 1.510012E8</TopLeftCorner>  
          <TileWidth>512</TileWidth> 
          <TileHeight>512</TileHeight>
          <MatrixWidth>61175</MatrixWidth> 
            <MatrixHeight>74466</MatrixHeight>
          </TileMatrix>
          <TileMatrix>
          <ows:Identifier>9</ows:Identifier>
          <ScaleDenominator>2132.729584141936</ScaleDenominator>
          <TopLeftCorner>-1.210257E8 1.510012E8</TopLeftCorner>  
          <TileWidth>512</TileWidth> 
          <TileHeight>512</TileHeight>
          <MatrixWidth>122349</MatrixWidth> 
            <MatrixHeight>148932</MatrixHeight>
          </TileMatrix>
          <TileMatrix>
          <ows:Identifier>10</ows:Identifier>
          <ScaleDenominator>1066.3647915984968</ScaleDenominator>
          <TopLeftCorner>-1.210257E8 1.510012E8</TopLeftCorner>  
          <TileWidth>512</TileWidth> 
          <TileHeight>512</TileHeight>
          <MatrixWidth>244698</MatrixWidth> 
            <MatrixHeight>297863</MatrixHeight>
          </TileMatrix>
          <TileMatrix>
          <ows:Identifier>11</ows:Identifier>
          <ScaleDenominator>533.1823957992484</ScaleDenominator>
          <TopLeftCorner>-1.210257E8 1.510012E8</TopLeftCorner>  
          <TileWidth>512</TileWidth> 
          <TileHeight>512</TileHeight>
          <MatrixWidth>489395</MatrixWidth> 
            <MatrixHeight>595725</MatrixHeight>
          </TileMatrix>
          <TileMatrix>
          <ows:Identifier>12</ows:Identifier>
          <ScaleDenominator>266.5911978996242</ScaleDenominator>
          <TopLeftCorner>-1.210257E8 1.510012E8</TopLeftCorner>  
          <TileWidth>512</TileWidth> 
          <TileHeight>512</TileHeight>
          <MatrixWidth>978790</MatrixWidth> 
            <MatrixHeight>1191449</MatrixHeight>
          </TileMatrix>
          </TileMatrixSet>
   </Contents>
<ServiceMetadataURL xlink:href="https://gismaps.sedgwickcounty.org/arcgis/rest/services/Map/Base_Aerials2003_Cached_SP/MapServer/WMTS/1.0.0/WMTSCapabilities.xml" /> 
</Capabilities>
