{
 "currentVersion": 10.91,
 "cimVersion": "2.9.0",
 "serviceDescription": "1989 Aerials Sedgwick County cached",
 "mapName": "Layers",
 "description": "1989 Aerials Sedgwick County cached",
 "copyrightText": "",
 "supportsDynamicLayers": false,
 "layers": [],
 "tables": [],
 "spatialReference": {
  "wkid": 102678,
  "latestWkid": 3420,
  "xyTolerance": 0.0032808333333333335,
  "zTolerance": 0.001,
  "mTolerance": 0.001,
  "falseX": -121025700,
  "falseY": -93674900,
  "xyUnits": 3.681274654427216E7,
  "falseZ": -100000,
  "zUnits": 10000,
  "falseM": -100000,
  "mUnits": 10000
 },
 "singleFusedMapCache": true,
 "tileInfo": {
  "rows": 256,
  "cols": 256,
  "dpi": 96,
  "format": "MIXED",
  "compressionQuality": 40,
  "origin": {
   "x": -2.0037508342787E7,
   "y": 2.0037508342787E7
  },
  "spatialReference": {
   "wkid": 102678,
   "latestWkid": 3420,
   "xyTolerance": 0.0032808333333333335,
   "zTolerance": 0.001,
   "mTolerance": 0.001,
   "falseX": -121025700,
   "falseY": -93674900,
   "xyUnits": 3.681274654427216E7,
   "falseZ": -100000,
   "zUnits": 10000,
   "falseM": -100000,
   "mUnits": 10000
  },
  "lods": [
   {
    "level": 0,
    "resolution": 250.7771502986111,
    "scale": 288895.277144
   },
   {
    "level": 1,
    "resolution": 125.38857514930555,
    "scale": 144447.638572
   },
   {
    "level": 2,
    "resolution": 62.694287574652776,
    "scale": 72223.819286
   },
   {
    "level": 3,
    "resolution": 31.347143787326388,
    "scale": 36111.909643
   },
   {
    "level": 4,
    "resolution": 15.673571894097222,
    "scale": 18055.954822
   },
   {
    "level": 5,
    "resolution": 7.836785947048611,
    "scale": 9027.977411
   },
   {
    "level": 6,
    "resolution": 3.9183929730902776,
    "scale": 4513.988705
   },
   {
    "level": 7,
    "resolution": 1.9591964869791667,
    "scale": 2256.994353
   },
   {
    "level": 8,
    "resolution": 0.9795982430555555,
    "scale": 1128.497176
   },
   {
    "level": 9,
    "resolution": 0.4895833333333333,
    "scale": 564
   }
  ]
 },
 "storageInfo": {
  "storageFormat": "esriMapCacheStorageModeCompact",
  "packetSize": 128
 },
 "initialExtent": {
  "xmin": 1479088.5215395459,
  "ymin": 1532665.7999520616,
  "xmax": 1736474.1115331731,
  "ymax": 1786556.0300815778,
  "spatialReference": {
   "wkid": 102678,
   "latestWkid": 3420,
   "xyTolerance": 0.0032808333333333335,
   "zTolerance": 0.001,
   "mTolerance": 0.001,
   "falseX": -121025700,
   "falseY": -93674900,
   "xyUnits": 3.681274654427216E7,
   "falseZ": -100000,
   "zUnits": 10000,
   "falseM": -100000,
   "mUnits": 10000
  }
 },
 "fullExtent": {
  "xmin": "NaN",
  "ymin": "NaN",
  "xmax": "NaN",
  "ymax": "NaN",
  "spatialReference": {
   "wkid": 102678,
   "latestWkid": 3420,
   "xyTolerance": 0.0032808333333333335,
   "zTolerance": 0.001,
   "mTolerance": 0.001,
   "falseX": -121025700,
   "falseY": -93674900,
   "xyUnits": 3.681274654427216E7,
   "falseZ": -100000,
   "zUnits": 10000,
   "falseM": -100000,
   "mUnits": 10000
  }
 },
 "datesInUnknownTimezone": false,
 "minScale": 288895.277144,
 "maxScale": 564,
 "units": "esriFeet",
 "supportedImageFormatTypes": "PNG32,PNG24,PNG,JPG,DIB,TIFF,EMF,PS,PDF,GIF,SVG,SVGZ,BMP",
 "documentInfo": {
  "Title": "Service_Publishing.aprx",
  "Author": "",
  "Comments": "1989 Aerials Sedgwick County cached",
  "Subject": "1989 Aerials Sedgwick County cached",
  "Category": "",
  "AntialiasingMode": "None",
  "TextAntialiasingMode": "Force",
  "Version": "2.4.0",
  "Keywords": "1989,Aerials,Basmap,cache,Sedgwick"
 },
 "supportsQueryDomains": true,
 "capabilities": "Map,Query,Data",
 "supportedQueryFormats": "JSON, geoJSON, PBF",
 "exportTilesAllowed": false,
 "referenceScale": 0.0,
 "datumTransformations": [
  {
   "geoTransforms": [
    {
     "wkid": 108001,
     "latestWkid": 1241,
     "transformForward": true,
     "name": "NAD_1927_To_NAD_1983_NADCON"
    }
   ]
  },
  {
   "geoTransforms": [
    {
     "wkid": 108001,
     "latestWkid": 1241,
     "transformForward": false,
     "name": "NAD_1927_To_NAD_1983_NADCON"
    }
   ]
  }
 ],
 "supportsDatumTransformation": true,
 "archivingInfo": {
  "supportsHistoricMoment": false
 },
 "supportsClipping": true,
 "supportsSpatialFilter": true,
 "supportsTimeRelation": true,
 "supportsQueryDataElements": true,
 "maxRecordCount": 1000,
 "maxImageHeight": 4096,
 "maxImageWidth": 4096,
 "supportedExtensions": "",
 "serviceItemId": "6911b3f1f45c4ca3aab8280d7f253223"
}
