{
 "version": 1.0,
 "tileBundlesPath": "./tile",
 "storageInfo": {
  "packetSize": 128,
  "storageFormat": "esriMapCacheStorageModeCompactV2"
 },
 "tileImageInfo": {
  "format": "JPEG",
  "compressionQuality": 75,
  "bandCount": 1,
  "lercError": 0
 },
 "tileInfo": {
  "spatialReference": {
   "wkid": 102678,
   "latestWkid": 3420
  },
  "origin": {
   "x": -121025700,
   "y": 151001200
  },
  "rows": 512,
  "cols": 512,
  "dpi": 96,
  "lods": [
   {
    "level": 0,
    "resolution": 1003.1086011953124,
    "scale": 1155581.108577
   },
   {
    "level": 1,
    "resolution": 501.55430059809026,
    "scale": 577790.554289
   },
   {
    "level": 2,
    "resolution": 250.7771502986111,
    "scale": 288895.277144
   },
   {
    "level": 3,
    "resolution": 125.38857514930555,
    "scale": 144447.638572
   },
   {
    "level": 4,
    "resolution": 62.694287574652776,
    "scale": 72223.819286
   },
   {
    "level": 5,
    "resolution": 31.347143787326388,
    "scale": 36111.909643
   },
   {
    "level": 6,
    "resolution": 15.673571894097222,
    "scale": 18055.954822
   },
   {
    "level": 7,
    "resolution": 7.836785947048611,
    "scale": 9027.977411
   },
   {
    "level": 8,
    "resolution": 3.9183929730902776,
    "scale": 4513.988705
   },
   {
    "level": 9,
    "resolution": 1.9591964869791667,
    "scale": 2256.994353
   },
   {
    "level": 10,
    "resolution": 0.9795982430555555,
    "scale": 1128.497176
   },
   {
    "level": 11,
    "resolution": 0.48979912152777777,
    "scale": 564.248588
   },
   {
    "level": 12,
    "resolution": 0.24489956076388888,
    "scale": 282.124294
   }
  ],
  "format": "JPEG",
  "compressionQuality": 75,
  "bandCount": 1,
  "lercError": 0,
  "storageFormat": "esriMapCacheStorageModeCompactV2",
  "packetSize": 128
 },
 "name": "Base_Hillshade_SP_VT",
 "serviceDescription": "",
 "spatialReference": {
  "wkid": 102678,
  "latestWkid": 3420,
  "xyTolerance": 0.0032808333333333335,
  "zTolerance": 0.001,
  "mTolerance": 0.001,
  "falseX": -121025700,
  "falseY": -93674900,
  "xyUnits": 3.681274654427216E7,
  "falseZ": -100000,
  "zUnits": 10000,
  "falseM": -100000,
  "mUnits": 10000
 },
 "units": "esriFeet",
 "minLOD": 1,
 "maxLOD": 13,
 "resampling": true,
 "layers": [
  {
   "id": 0,
   "name": "Hillshade",
   "parentLayerId": -1,
   "defaultVisibility": true,
   "subLayerIds": [
    1,
    2,
    3
   ],
   "minScale": 0,
   "maxScale": 0,
   "type": "Group Layer",
   "supportsDynamicLegends": false,
   "layerId": 0,
   "layerName": "Hillshade",
   "serviceItemId": "5a639fa8f4c9405788923eb3e43c0869"
  },
  {
   "id": 1,
   "name": "Land Tint",
   "parentLayerId": 0,
   "defaultVisibility": true,
   "subLayerIds": null,
   "minScale": 0,
   "maxScale": 0,
   "type": "Feature Layer",
   "geometryType": "esriGeometryPolygon",
   "supportsDynamicLegends": true,
   "legend": [
    {
     "label": "",
     "imageData": "iVBORw0KGgoAAAANSUhEUgAAABQAAAAUCAYAAACNiR0NAAAACXBIWXMAAA7EAAAOxAGVKw4bAAAAIklEQVQ4jWP5/7/EgYGKgIWaho0aOGrgqIGjBo4aOJQMBAAaOQMD48KbMAAAAABJRU5ErkJggg==",
     "contentType": "image/png",
     "height": 20,
     "width": 20,
     "layerId": 1,
     "layerName": "Land Tint"
    }
   ],
   "layerId": 1,
   "layerName": "Land Tint",
   "serviceItemId": "5a639fa8f4c9405788923eb3e43c0869"
  },
  {
   "id": 2,
   "name": "Five Foot",
   "parentLayerId": 0,
   "defaultVisibility": true,
   "subLayerIds": null,
   "minScale": 0,
   "maxScale": 0,
   "type": "Raster Layer",
   "supportsDynamicLegends": true,
   "legend": [
    {
     "label": "High : 254 - Low : 0",
     "imageData": "iVBORw0KGgoAAAANSUhEUgAAABQAAAA8CAYAAABmdppWAAAACXBIWXMAAA7EAAAOxAGVKw4bAAAAbklEQVRYhe2WwQ0AIAwCfXT/kYtDSJNr0AHIYaFaknSMp6R26p1SWwFHCPGC3iEPEPa3/Czot8xvCn7KGwgDN7aZcKDLeTnkVw+fQ35smm+Zn8PErwj9DvnVC9w2gV1eUD13bOzra+CRCowNnPACnku0+SzDZ8gAAAAASUVORK5CYII=",
     "contentType": "image/png",
     "height": 60,
     "width": 20,
     "layerId": 2,
     "layerName": "Five Foot"
    }
   ],
   "layerId": 2,
   "layerName": "Five Foot",
   "serviceItemId": "5a639fa8f4c9405788923eb3e43c0869"
  },
  {
   "id": 3,
   "name": "Four Foot",
   "parentLayerId": 0,
   "defaultVisibility": true,
   "subLayerIds": null,
   "minScale": 0,
   "maxScale": 0,
   "type": "Raster Layer",
   "supportsDynamicLegends": true,
   "legend": [
    {
     "label": "High : 254 - Low : 0",
     "imageData": "iVBORw0KGgoAAAANSUhEUgAAABQAAAA8CAYAAABmdppWAAAACXBIWXMAAA7EAAAOxAGVKw4bAAAAbklEQVRYhe2WwQ0AIAwCfXT/kYtDSJNr0AHIYaFaknSMp6R26p1SWwFHCPGC3iEPEPa3/Czot8xvCn7KGwgDN7aZcKDLeTnkVw+fQ35smm+Zn8PErwj9DvnVC9w2gV1eUD13bOzra+CRCowNnPACnku0+SzDZ8gAAAAASUVORK5CYII=",
     "contentType": "image/png",
     "height": 60,
     "width": 20,
     "layerId": 3,
     "layerName": "Four Foot"
    }
   ],
   "layerId": 3,
   "layerName": "Four Foot",
   "serviceItemId": "5a639fa8f4c9405788923eb3e43c0869"
  }
 ],
 "initialExtent": {
  "xmin": 1512443.1555839658,
  "ymin": 1607101.360099454,
  "xmax": 1703128.1555839658,
  "ymax": 1768866.360099454,
  "spatialReference": {
   "wkid": 102678,
   "latestWkid": 3420,
   "xyTolerance": 0.0032808333333333335,
   "zTolerance": 0.001,
   "mTolerance": 0.001,
   "falseX": -121025700,
   "falseY": -93674900,
   "xyUnits": 3.681274654427216E7,
   "falseZ": -100000,
   "zUnits": 10000,
   "falseM": -100000,
   "mUnits": 10000
  }
 },
 "fullExtent": {
  "xmin": 1512443.1555839658,
  "ymin": 1607101.360099454,
  "xmax": 1703128.1555839658,
  "ymax": 1768866.360099454,
  "spatialReference": {
   "wkid": 102678,
   "latestWkid": 3420,
   "xyTolerance": 0.0032808333333333335,
   "zTolerance": 0.001,
   "mTolerance": 0.001,
   "falseX": -121025700,
   "falseY": -93674900,
   "xyUnits": 3.681274654427216E7,
   "falseZ": -100000,
   "zUnits": 10000,
   "falseM": -100000,
   "mUnits": 10000
  }
 },
 "minScale": 577790.554289,
 "maxScale": 0.0,
 "exportTilesAllowed": false,
 "maxExportTilesCount": 0,
 "currentVersion": 10.91,
 "mapName": "Base_Hillshade_SP_VT",
 "singleFusedMapCache": true,
 "type": "MapServer",
 "supportedExtensions": "",
 "capabilities": "TilesOnly,Tilemap",
 "serviceItemId": "5a639fa8f4c9405788923eb3e43c0869"
}
