<?xml version="1.0" encoding="UTF-8"?>
<Capabilities xmlns="http://www.opengis.net/wmts/1.0"
	xmlns:ows="http://www.opengis.net/ows/1.1"
	xmlns:xlink="http://www.w3.org/1999/xlink"
	xmlns:xsi="http://www.w3.org/2001/XMLSchema-instance"
	xmlns:gml="http://www.opengis.net/gml"
	xsi:schemaLocation="http://www.opengis.net/wmts/1.0 http://schemas.opengis.net/wmts/1.0/wmtsGetCapabilities_response.xsd"
	version="1.0.0">
  <!-- Service Identification --> 
 <ows:ServiceIdentification>
	<ows:Title>Hosted_Base_Hillshade_SP_VT</ows:Title>
	<ows:ServiceType>OGC WMTS</ows:ServiceType>
	<ows:ServiceTypeVersion>1.0.0</ows:ServiceTypeVersion>
</ows:ServiceIdentification> <!-- Operations Metadata --> <ows:OperationsMetadata>
	<ows:Operation name="GetCapabilities">
		<ows:DCP>
			<ows:HTTP>
				<ows:Get xlink:href="https://gismaps.sedgwickcounty.org/arcgis/rest/services/Hosted/Base_Hillshade_SP_VT/MapServer/WMTS/1.0.0/WMTSCapabilities.xml">
					<ows:Constraint name="GetEncoding">
						<ows:AllowedValues>
							<ows:Value>RESTful</ows:Value>
						</ows:AllowedValues>
					</ows:Constraint>
				</ows:Get>
                <!-- add KVP binding in 10.1 -->
                <ows:Get xlink:href="https://gismaps.sedgwickcounty.org/arcgis/rest/services/Hosted/Base_Hillshade_SP_VT/MapServer/WMTS?">
                  <ows:Constraint name="GetEncoding">
                    <ows:AllowedValues>
                      <ows:Value>KVP</ows:Value>
                    </ows:AllowedValues>
                  </ows:Constraint>
                </ows:Get>
    		</ows:HTTP>
    </ows:DCP>
	</ows:Operation>
	<ows:Operation name="GetTile">
		<ows:DCP>
			<ows:HTTP>
				<ows:Get xlink:href="https://gismaps.sedgwickcounty.org/arcgis/rest/services/Hosted/Base_Hillshade_SP_VT/MapServer/WMTS/tile/1.0.0/">
					<ows:Constraint name="GetEncoding">
						<ows:AllowedValues>
							<ows:Value>RESTful</ows:Value>
						</ows:AllowedValues>
					</ows:Constraint>
				</ows:Get>
                <ows:Get xlink:href="https://gismaps.sedgwickcounty.org/arcgis/rest/services/Hosted/Base_Hillshade_SP_VT/MapServer/WMTS?">
                  <ows:Constraint name="GetEncoding">
                    <ows:AllowedValues>
                      <ows:Value>KVP</ows:Value>
                    </ows:AllowedValues>
                  </ows:Constraint>
                </ows:Get>
            </ows:HTTP>
		</ows:DCP>
	</ows:Operation>
</ows:OperationsMetadata> 
<Contents>
  <!--Layer-->  
  <Layer>
    <ows:Title>Hosted_Base_Hillshade_SP_VT</ows:Title> 
    <ows:Identifier>Hosted_Base_Hillshade_SP_VT</ows:Identifier>
    <ows:BoundingBox crs="urn:ogc:def:crs:EPSG::3420">
	  <ows:LowerCorner>1512443.1555839658 1607101.360099454</ows:LowerCorner>
			<ows:UpperCorner>1703128.1555839658 1768866.360099454</ows:UpperCorner>
		</ows:BoundingBox>  
      <ows:WGS84BoundingBox crs="urn:ogc:def:crs:OGC:2:84">
      <ows:LowerCorner>-180.0 -90.0</ows:LowerCorner>
      <ows:UpperCorner>180.0 90.0</ows:UpperCorner>
    </ows:WGS84BoundingBox>
    <Style isDefault="true">
      <ows:Title>Default Style</ows:Title>
      <ows:Identifier>default</ows:Identifier>
    </Style>
    <Format>image/jpeg</Format>
    <TileMatrixSetLink>
      <TileMatrixSet>default028mm</TileMatrixSet>
    </TileMatrixSetLink>
      <ResourceURL format="image/jpeg" resourceType="tile" template="https://gismaps.sedgwickcounty.org/arcgis/rest/services/Hosted/Base_Hillshade_SP_VT/MapServer/WMTS/tile/1.0.0/Hosted_Base_Hillshade_SP_VT/{Style}/{TileMatrixSet}/{TileMatrix}/{TileRow}/{TileCol}.jpg" />
  </Layer> 
   <!--TileMatrixSet-->
   <TileMatrixSet>
     <ows:Title>TileMatrix using 0.28mm</ows:Title>
     <ows:Abstract>The tile matrix set that has scale values calculated based on the dpi defined by OGC specification (dpi assumes 0.28mm as the physical distance of a pixel).</ows:Abstract> 
     <ows:Identifier>default028mm</ows:Identifier>
     <ows:SupportedCRS>urn:ogc:def:crs:EPSG::3420</ows:SupportedCRS>
      <TileMatrix>
          <ows:Identifier>0</ows:Identifier>
          <ScaleDenominator>1091955.3630154685</ScaleDenominator>
          <TopLeftCorner>-1.210257E8 1.510012E8</TopLeftCorner>  
          <TileWidth>512</TileWidth> 
          <TileHeight>512</TileHeight>
          <MatrixWidth>239</MatrixWidth> 
            <MatrixHeight>291</MatrixHeight>
          </TileMatrix>
          <TileMatrix>
          <ows:Identifier>1</ows:Identifier>
          <ScaleDenominator>545977.6815082068</ScaleDenominator>
          <TopLeftCorner>-1.210257E8 1.510012E8</TopLeftCorner>  
          <TileWidth>512</TileWidth> 
          <TileHeight>512</TileHeight>
          <MatrixWidth>478</MatrixWidth> 
            <MatrixHeight>582</MatrixHeight>
          </TileMatrix>
          <TileMatrix>
          <ows:Identifier>2</ows:Identifier>
          <ScaleDenominator>272988.8407536309</ScaleDenominator>
          <TopLeftCorner>-1.210257E8 1.510012E8</TopLeftCorner>  
          <TileWidth>512</TileWidth> 
          <TileHeight>512</TileHeight>
          <MatrixWidth>956</MatrixWidth> 
            <MatrixHeight>1164</MatrixHeight>
          </TileMatrix>
          <TileMatrix>
          <ows:Identifier>3</ows:Identifier>
          <ScaleDenominator>136494.42037681545</ScaleDenominator>
          <TopLeftCorner>-1.210257E8 1.510012E8</TopLeftCorner>  
          <TileWidth>512</TileWidth> 
          <TileHeight>512</TileHeight>
          <MatrixWidth>1912</MatrixWidth> 
            <MatrixHeight>2328</MatrixHeight>
          </TileMatrix>
          <TileMatrix>
          <ows:Identifier>4</ows:Identifier>
          <ScaleDenominator>68247.21018840773</ScaleDenominator>
          <TopLeftCorner>-1.210257E8 1.510012E8</TopLeftCorner>  
          <TileWidth>512</TileWidth> 
          <TileHeight>512</TileHeight>
          <MatrixWidth>3824</MatrixWidth> 
            <MatrixHeight>4655</MatrixHeight>
          </TileMatrix>
          <TileMatrix>
          <ows:Identifier>5</ows:Identifier>
          <ScaleDenominator>34123.605094203864</ScaleDenominator>
          <TopLeftCorner>-1.210257E8 1.510012E8</TopLeftCorner>  
          <TileWidth>512</TileWidth> 
          <TileHeight>512</TileHeight>
          <MatrixWidth>7647</MatrixWidth> 
            <MatrixHeight>9309</MatrixHeight>
          </TileMatrix>
          <TileMatrix>
          <ows:Identifier>6</ows:Identifier>
          <ScaleDenominator>17061.8025475744</ScaleDenominator>
          <TopLeftCorner>-1.210257E8 1.510012E8</TopLeftCorner>  
          <TileWidth>512</TileWidth> 
          <TileHeight>512</TileHeight>
          <MatrixWidth>15294</MatrixWidth> 
            <MatrixHeight>18617</MatrixHeight>
          </TileMatrix>
          <TileMatrix>
          <ows:Identifier>7</ows:Identifier>
          <ScaleDenominator>8530.9012737872</ScaleDenominator>
          <TopLeftCorner>-1.210257E8 1.510012E8</TopLeftCorner>  
          <TileWidth>512</TileWidth> 
          <TileHeight>512</TileHeight>
          <MatrixWidth>30588</MatrixWidth> 
            <MatrixHeight>37233</MatrixHeight>
          </TileMatrix>
          <TileMatrix>
          <ows:Identifier>8</ows:Identifier>
          <ScaleDenominator>4265.45063642113</ScaleDenominator>
          <TopLeftCorner>-1.210257E8 1.510012E8</TopLeftCorner>  
          <TileWidth>512</TileWidth> 
          <TileHeight>512</TileHeight>
          <MatrixWidth>61175</MatrixWidth> 
            <MatrixHeight>74466</MatrixHeight>
          </TileMatrix>
          <TileMatrix>
          <ows:Identifier>9</ows:Identifier>
          <ScaleDenominator>2132.7253186830353</ScaleDenominator>
          <TopLeftCorner>-1.210257E8 1.510012E8</TopLeftCorner>  
          <TileWidth>512</TileWidth> 
          <TileHeight>512</TileHeight>
          <MatrixWidth>122349</MatrixWidth> 
            <MatrixHeight>148932</MatrixHeight>
          </TileMatrix>
          <TileMatrix>
          <ows:Identifier>10</ows:Identifier>
          <ScaleDenominator>1066.3626588690477</ScaleDenominator>
          <TopLeftCorner>-1.210257E8 1.510012E8</TopLeftCorner>  
          <TileWidth>512</TileWidth> 
          <TileHeight>512</TileHeight>
          <MatrixWidth>244697</MatrixWidth> 
            <MatrixHeight>297863</MatrixHeight>
          </TileMatrix>
          <TileMatrix>
          <ows:Identifier>11</ows:Identifier>
          <ScaleDenominator>533.1813294345238</ScaleDenominator>
          <TopLeftCorner>-1.210257E8 1.510012E8</TopLeftCorner>  
          <TileWidth>512</TileWidth> 
          <TileHeight>512</TileHeight>
          <MatrixWidth>489394</MatrixWidth> 
            <MatrixHeight>595725</MatrixHeight>
          </TileMatrix>
          <TileMatrix>
          <ows:Identifier>12</ows:Identifier>
          <ScaleDenominator>266.5906647172619</ScaleDenominator>
          <TopLeftCorner>-1.210257E8 1.510012E8</TopLeftCorner>  
          <TileWidth>512</TileWidth> 
          <TileHeight>512</TileHeight>
          <MatrixWidth>978788</MatrixWidth> 
            <MatrixHeight>1191450</MatrixHeight>
          </TileMatrix>
          </TileMatrixSet>
   </Contents>
<ServiceMetadataURL xlink:href="https://gismaps.sedgwickcounty.org/arcgis/rest/services/Hosted/Base_Hillshade_SP_VT/MapServer/WMTS/1.0.0/WMTSCapabilities.xml" /> 
</Capabilities>
